BEGIN:VCALENDAR
VERSION:2.0
PRODID:-//The Walker Foundation - ECPv6.13.2.1//NONSGML v1.0//EN
CALSCALE:GREGORIAN
METHOD:PUBLISH
X-WR-CALNAME:The Walker Foundation
X-ORIGINAL-URL:https://thewalkerfoundation.org
X-WR-CALDESC:Events for The Walker Foundation
REFRESH-INTERVAL;VALUE=DURATION:PT1H
X-Robots-Tag:noindex
X-PUBLISHED-TTL:PT1H
BEGIN:VTIMEZONE
TZID:UTC
BEGIN:STANDARD
TZOFFSETFROM:+0000
TZOFFSETTO:+0000
TZNAME:UTC
DTSTART:20240101T000000
END:STANDARD
END:VTIMEZONE
BEGIN:VEVENT
DTSTART;TZID=UTC:20250810T120000
DTEND;TZID=UTC:20250810T163000
DTSTAMP:20260423T160338
CREATED:20250502T163847Z
LAST-MODIFIED:20250713T160715Z
UID:7801-1754827200-1754843400@thewalkerfoundation.org
SUMMARY:HAIRitage DAY EVENT
DESCRIPTION:
URL:https://thewalkerfoundation.org/event/hairitage-day-event/
CATEGORIES:Hair Fair
ATTACH;FMTTYPE=image/jpeg:https://thewalkerfoundation.org/wp-content/uploads/2025/05/IMG_20250521_093859.jpg
END:VEVENT
BEGIN:VEVENT
DTSTART;TZID=UTC:20250517T130000
DTEND;TZID=UTC:20250517T150000
DTSTAMP:20260423T160338
CREATED:20250403T134335Z
LAST-MODIFIED:20250403T134335Z
UID:7662-1747486800-1747494000@thewalkerfoundation.org
SUMMARY:Kids Casting Call
DESCRIPTION:
URL:https://thewalkerfoundation.org/event/kids-casting-call-2/
ATTACH;FMTTYPE=image/jpeg:https://thewalkerfoundation.org/wp-content/uploads/2025/04/Kids.jpg
END:VEVENT
BEGIN:VEVENT
DTSTART;VALUE=DATE:20250425
DTEND;VALUE=DATE:20250426
DTSTAMP:20260423T160338
CREATED:20250403T133810Z
LAST-MODIFIED:20250403T134551Z
UID:7658-1745539200-1745625599@thewalkerfoundation.org
SUMMARY:Children Mercy Prom 2025
DESCRIPTION:
URL:https://thewalkerfoundation.org/event/children-mercy-prom-2025/
ATTACH;FMTTYPE=image/jpeg:https://thewalkerfoundation.org/wp-content/uploads/2025/04/Children.jpg
END:VEVENT
BEGIN:VEVENT
DTSTART;TZID=UTC:20250304T140000
DTEND;TZID=UTC:20250304T150000
DTSTAMP:20260423T160338
CREATED:20250401T145506Z
LAST-MODIFIED:20250403T133028Z
UID:7610-1741096800-1741100400@thewalkerfoundation.org
SUMMARY:WE ALL WEAR DIFFERENT CROWNS
DESCRIPTION:
URL:https://thewalkerfoundation.org/event/we-all-wear-different-crowns/
ATTACH;FMTTYPE=image/jpeg:https://thewalkerfoundation.org/wp-content/uploads/2025/04/march.jpg
END:VEVENT
BEGIN:VEVENT
DTSTART;TZID=UTC:20250203T000000
DTEND;TZID=UTC:20250203T150000
DTSTAMP:20260423T160338
CREATED:20250202T002253Z
LAST-MODIFIED:20250403T134758Z
UID:7444-1738540800-1738594800@thewalkerfoundation.org
SUMMARY:HABITAT FOR HUMANITY
DESCRIPTION:
URL:https://thewalkerfoundation.org/event/habitat-for-humanity/
CATEGORIES:Training
ATTACH;FMTTYPE=image/jpeg:https://thewalkerfoundation.org/wp-content/uploads/2025/02/IMG_20250201_181730.jpg
END:VEVENT
BEGIN:VEVENT
DTSTART;VALUE=DATE:20241222
DTEND;VALUE=DATE:20241223
DTSTAMP:20260423T160338
CREATED:20241126T003651Z
LAST-MODIFIED:20250403T140647Z
UID:7358-1734825600-1734911999@thewalkerfoundation.org
SUMMARY:Hair and The Holidays
DESCRIPTION:
URL:https://thewalkerfoundation.org/event/hair-and-the-holidays/
CATEGORIES:Hair Fair
ATTACH;FMTTYPE=image/jpeg:https://thewalkerfoundation.org/wp-content/uploads/2024/11/IMG_20241125_182834.jpg
END:VEVENT
BEGIN:VEVENT
DTSTART;TZID=UTC:20240913T160000
DTEND;TZID=UTC:20240927T173000
DTSTAMP:20260423T160338
CREATED:20240905T020038Z
LAST-MODIFIED:20250403T134950Z
UID:7182-1726243200-1727458200@thewalkerfoundation.org
SUMMARY:Life Skills with Crown Kingz
DESCRIPTION:
URL:https://thewalkerfoundation.org/event/hair-love-with-linc-2/
CATEGORIES:Training
ATTACH;FMTTYPE=image/jpeg:https://thewalkerfoundation.org/wp-content/uploads/2024/09/WhatsApp-Image-2024-09-04-at-06.54.55_2657b9e0.jpg
END:VEVENT
BEGIN:VEVENT
DTSTART;TZID=UTC:20240912T000000
DTEND;TZID=UTC:20240912T000000
DTSTAMP:20260423T160338
CREATED:20240912T165526Z
LAST-MODIFIED:20250403T135140Z
UID:6634-1726099200-1726099200@thewalkerfoundation.org
SUMMARY:HAIRitage Day Kids Casting Call
DESCRIPTION:
URL:https://thewalkerfoundation.org/event/hairitage-day-kids-casting-call-2/
CATEGORIES:Training
END:VEVENT
BEGIN:VEVENT
DTSTART;TZID=UTC:20240912T000000
DTEND;TZID=UTC:20240912T000000
DTSTAMP:20260423T160338
CREATED:20240912T165514Z
LAST-MODIFIED:20250403T135045Z
UID:6845-1726099200-1726099200@thewalkerfoundation.org
SUMMARY:City Lights and KC Nights
DESCRIPTION:
URL:https://thewalkerfoundation.org/event/city-lights-and-kc-nights/
CATEGORIES:Training
END:VEVENT
BEGIN:VEVENT
DTSTART;VALUE=DATE:20240911
DTEND;VALUE=DATE:20240926
DTSTAMP:20260423T160338
CREATED:20240809T142348Z
LAST-MODIFIED:20250403T135230Z
UID:7141-1726012800-1727308799@thewalkerfoundation.org
SUMMARY:Hair Love With LINC
DESCRIPTION:
URL:https://thewalkerfoundation.org/event/hair-love-with-linc/
CATEGORIES:Hair Fair
ATTACH;FMTTYPE=image/jpeg:https://thewalkerfoundation.org/wp-content/uploads/2024/08/IMG_20240809_092137.jpg
END:VEVENT
BEGIN:VEVENT
DTSTART;TZID=UTC:20240825T100000
DTEND;TZID=UTC:20240825T140000
DTSTAMP:20260423T160338
CREATED:20240827T031857Z
LAST-MODIFIED:20250403T135305Z
UID:7162-1724580000-1724594400@thewalkerfoundation.org
SUMMARY:Casa Hair Fair
DESCRIPTION:
URL:https://thewalkerfoundation.org/event/casa-hair-fair/
CATEGORIES:Hair Fair
ATTACH;FMTTYPE=image/jpeg:https://thewalkerfoundation.org/wp-content/uploads/2024/08/Screenshot_20240826_221707_Canva.jpg
END:VEVENT
BEGIN:VEVENT
DTSTART;TZID=UTC:20240817T110000
DTEND;TZID=UTC:20240817T163000
DTSTAMP:20260423T160338
CREATED:20240809T142707Z
LAST-MODIFIED:20250403T135351Z
UID:7144-1723892400-1723912200@thewalkerfoundation.org
SUMMARY:Operation Transformation Hair Fair
DESCRIPTION:
URL:https://thewalkerfoundation.org/event/operation-transformation-hair-fair/
CATEGORIES:Hair Fair
ATTACH;FMTTYPE=image/jpeg:https://thewalkerfoundation.org/wp-content/uploads/2024/08/IMG_20240809_093054.jpg
END:VEVENT
BEGIN:VEVENT
DTSTART;TZID=UTC:20240803T153000
DTEND;TZID=UTC:20240803T170000
DTSTAMP:20260423T160338
CREATED:20240723T144127Z
LAST-MODIFIED:20250403T135424Z
UID:7122-1722699000-1722704400@thewalkerfoundation.org
SUMMARY:Childrens Mercy Camp
DESCRIPTION:
URL:https://thewalkerfoundation.org/event/childrens-mercy-camp/
CATEGORIES:Hair Fair
ATTACH;FMTTYPE=image/jpeg:https://thewalkerfoundation.org/wp-content/uploads/2024/07/IMG_20240723_062713.jpg
END:VEVENT
BEGIN:VEVENT
DTSTART;TZID=UTC:20240803T083000
DTEND;TZID=UTC:20240803T140000
DTSTAMP:20260423T160338
CREATED:20240726T220129Z
LAST-MODIFIED:20240802T184339Z
UID:7126-1722673800-1722693600@thewalkerfoundation.org
SUMMARY:US Bank Financial Literacy Event
DESCRIPTION:
URL:https://thewalkerfoundation.org/event/us-bank-finicial-literacy-event/
CATEGORIES:Hair Fair
ATTACH;FMTTYPE=image/jpeg:https://thewalkerfoundation.org/wp-content/uploads/2024/07/IMG_20240726_165926.jpg
END:VEVENT
BEGIN:VEVENT
DTSTART;TZID=UTC:20240802T170000
DTEND;TZID=UTC:20240802T200000
DTSTAMP:20260423T160338
CREATED:20240802T184638Z
LAST-MODIFIED:20240802T184638Z
UID:7133-1722618000-1722628800@thewalkerfoundation.org
SUMMARY:Night Market x BBBS KC Ice Cream Social
DESCRIPTION:
URL:https://thewalkerfoundation.org/event/night-market-x-bbbs-kc-ice-cream-social/
CATEGORIES:Hair Course
ATTACH;FMTTYPE=image/jpeg:https://thewalkerfoundation.org/wp-content/uploads/2024/08/IMG_20240802_131711.jpg
END:VEVENT
BEGIN:VEVENT
DTSTART;TZID=UTC:20240730T210000
DTEND;TZID=UTC:20240730T210000
DTSTAMP:20260423T160338
CREATED:20240827T032220Z
LAST-MODIFIED:20240827T032220Z
UID:7165-1722373200-1722373200@thewalkerfoundation.org
SUMMARY:Hairlove with Linq
DESCRIPTION:
URL:https://thewalkerfoundation.org/event/hairlove-with-linq/
CATEGORIES:Hair Course
ATTACH;FMTTYPE=image/jpeg:https://thewalkerfoundation.org/wp-content/uploads/2024/08/IMG_20240809_092137.jpg
END:VEVENT
BEGIN:VEVENT
DTSTART;TZID=UTC:20240720T100000
DTEND;TZID=UTC:20240720T140000
DTSTAMP:20260423T160338
CREATED:20240809T032337Z
LAST-MODIFIED:20240809T084059Z
UID:7094-1721469600-1721484000@thewalkerfoundation.org
SUMMARY:Christmas in July
DESCRIPTION:
URL:https://thewalkerfoundation.org/event/christmas-in-july/
CATEGORIES:Hair Course
ATTACH;FMTTYPE=image/jpeg:https://thewalkerfoundation.org/wp-content/uploads/2024/06/IMG_20240629_221705.jpg
END:VEVENT
BEGIN:VEVENT
DTSTART;TZID=UTC:20240630T120000
DTEND;TZID=UTC:20240630T160000
DTSTAMP:20260423T160338
CREATED:20240606T210208Z
LAST-MODIFIED:20240606T210208Z
UID:7047-1719748800-1719763200@thewalkerfoundation.org
SUMMARY:Carnival For Casa
DESCRIPTION:
URL:https://thewalkerfoundation.org/event/carnival-for-casa/
CATEGORIES:Hair Fair
ATTACH;FMTTYPE=image/png:https://thewalkerfoundation.org/wp-content/uploads/2024/06/IMG_20240606_155616.png
END:VEVENT
BEGIN:VEVENT
DTSTART;TZID=UTC:20240623T100000
DTEND;TZID=UTC:20240623T160000
DTSTAMP:20260423T160338
CREATED:20240409T023617Z
LAST-MODIFIED:20240409T023617Z
UID:6924-1719136800-1719158400@thewalkerfoundation.org
SUMMARY:Hairitage Day
DESCRIPTION:
URL:https://thewalkerfoundation.org/event/hairitage-day/
CATEGORIES:Hair Fair
ATTACH;FMTTYPE=image/png:https://thewalkerfoundation.org/wp-content/uploads/2024/04/2nd-hairitage-1.png
END:VEVENT
BEGIN:VEVENT
DTSTART;TZID=UTC:20240604T100000
DTEND;TZID=UTC:20240604T130000
DTSTAMP:20260423T160338
CREATED:20240531T182358Z
LAST-MODIFIED:20240531T182529Z
UID:7033-1717495200-1717506000@thewalkerfoundation.org
SUMMARY:Clay County
DESCRIPTION:
URL:https://thewalkerfoundation.org/event/clay-county/
CATEGORIES:Hair Fair
ATTACH;FMTTYPE=image/jpeg:https://thewalkerfoundation.org/wp-content/uploads/2024/05/Screenshot_20240531_055943_Canva.jpg
END:VEVENT
BEGIN:VEVENT
DTSTART;TZID=UTC:20240517T100000
DTEND;TZID=UTC:20240517T120000
DTSTAMP:20260423T160338
CREATED:20240208T052132Z
LAST-MODIFIED:20240324T040132Z
UID:6637-1715940000-1715947200@thewalkerfoundation.org
SUMMARY:DSS Platte County
DESCRIPTION:
URL:https://thewalkerfoundation.org/event/dss-platte-county/
ATTACH;FMTTYPE=image/jpeg:https://thewalkerfoundation.org/wp-content/uploads/2024/02/Screenshot_20240207_231440_Canva.jpg
END:VEVENT
BEGIN:VEVENT
DTSTART;TZID=UTC:20240510T090000
DTEND;TZID=UTC:20240510T160000
DTSTAMP:20260423T160338
CREATED:20240320T042255Z
LAST-MODIFIED:20240323T030325Z
UID:6846-1715331600-1715356800@thewalkerfoundation.org
SUMMARY:Children's Mercy City Light and KC Nights
DESCRIPTION:Prom Day (Private Event)
URL:https://thewalkerfoundation.org/event/city-light-and-kc-nights/
CATEGORIES:Hair Fair
ATTACH;FMTTYPE=image/jpeg:https://thewalkerfoundation.org/wp-content/uploads/2024/03/IMG_20240319_232452.jpg
END:VEVENT
BEGIN:VEVENT
DTSTART;TZID=UTC:20240414T100000
DTEND;TZID=UTC:20240414T235900
DTSTAMP:20260423T160338
CREATED:20240309T054828Z
LAST-MODIFIED:20240309T055156Z
UID:6779-1713088800-1713139140@thewalkerfoundation.org
SUMMARY:Big Brothers Big Sisters Hair Workshop (Private Event)
DESCRIPTION:
URL:https://thewalkerfoundation.org/event/big-brothers-big-sisters-hair-workshop-private-event/
CATEGORIES:Hair Course
ATTACH;FMTTYPE=image/jpeg:https://thewalkerfoundation.org/wp-content/uploads/2024/03/Screenshot_20240306_214442_Canva.jpg
END:VEVENT
BEGIN:VEVENT
DTSTART;TZID=UTC:20240310T130000
DTEND;TZID=UTC:20240310T160000
DTSTAMP:20260423T160338
CREATED:20240208T004535Z
LAST-MODIFIED:20240209T125041Z
UID:6635-1710075600-1710086400@thewalkerfoundation.org
SUMMARY:HAIRitage Day Kids Casting Call
DESCRIPTION:Kid Ages 5 to 15yrs old.
URL:https://thewalkerfoundation.org/event/hairitage-day-kids-casting-call/
CATEGORIES:Kids Casting Call
ATTACH;FMTTYPE=image/jpeg:https://thewalkerfoundation.org/wp-content/uploads/2024/02/IMG_20240207_183818.jpg
END:VEVENT
BEGIN:VEVENT
DTSTART;TZID=UTC:20240303T100000
DTEND;TZID=UTC:20240303T140000
DTSTAMP:20260423T160338
CREATED:20240208T054328Z
LAST-MODIFIED:20240209T122511Z
UID:6640-1709460000-1709474400@thewalkerfoundation.org
SUMMARY:CASA Hair Fair and Training
DESCRIPTION:
URL:https://thewalkerfoundation.org/event/casa-hair-fair-and-training/
CATEGORIES:Hair Fair
ATTACH;FMTTYPE=image/jpeg:https://thewalkerfoundation.org/wp-content/uploads/2024/02/Screenshot_20240207_234529_Canva.jpg
END:VEVENT
BEGIN:VEVENT
DTSTART;VALUE=DATE:20240301
DTEND;VALUE=DATE:20240302
DTSTAMP:20260423T160338
CREATED:20240209T123011Z
LAST-MODIFIED:20240209T123252Z
UID:6645-1709251200-1709337599@thewalkerfoundation.org
SUMMARY:Kids Designer Application Deadline March 1st
DESCRIPTION:
URL:https://thewalkerfoundation.org/event/kids-designer-application-deadline-march-1st/
CATEGORIES:Kids Casting Call
ATTACH;FMTTYPE=image/jpeg:https://thewalkerfoundation.org/wp-content/uploads/2024/02/IMG_20240209_055959.jpg
END:VEVENT
BEGIN:VEVENT
DTSTART;TZID=UTC:20240225T083000
DTEND;TZID=UTC:20240225T100000
DTSTAMP:20260423T160338
CREATED:20240209T123947Z
LAST-MODIFIED:20240209T124255Z
UID:6649-1708849800-1708855200@thewalkerfoundation.org
SUMMARY:Joy in the Journey "Private Event"
DESCRIPTION:Adult hair training class.
URL:https://thewalkerfoundation.org/event/joy-in-the-journey-private-event/
CATEGORIES:Hair Course
ATTACH;FMTTYPE=image/jpeg:https://thewalkerfoundation.org/wp-content/uploads/2024/02/Screenshot_20240209_062126_Canva.jpg
END:VEVENT
BEGIN:VEVENT
DTSTART;TZID=UTC:20240218T093000
DTEND;TZID=UTC:20240218T110000
DTSTAMP:20260423T160338
CREATED:20240219T000001Z
LAST-MODIFIED:20240219T000001Z
UID:6733-1708248600-1708254000@thewalkerfoundation.org
SUMMARY:HairStory Braiding Workshop
DESCRIPTION:
URL:https://thewalkerfoundation.org/event/hairstory-braiding-workshop/
CATEGORIES:Hair Course
ATTACH;FMTTYPE=image/jpeg:https://thewalkerfoundation.org/wp-content/uploads/2024/02/IMG_20240218_175642.jpg
END:VEVENT
BEGIN:VEVENT
DTSTART;TZID=UTC:20240216T120000
DTEND;TZID=UTC:20240216T160000
DTSTAMP:20260423T160338
CREATED:20240209T142338Z
LAST-MODIFIED:20240209T142338Z
UID:6655-1708084800-1708099200@thewalkerfoundation.org
SUMMARY:KC Girls Prep & Hair Talk Academy
DESCRIPTION:
URL:https://thewalkerfoundation.org/event/kc-girls-prep-hair-talk-academy/
CATEGORIES:Hair Course
ATTACH;FMTTYPE=image/jpeg:https://thewalkerfoundation.org/wp-content/uploads/2024/02/Screenshot_20240209_081757_Canva.jpg
END:VEVENT
BEGIN:VEVENT
DTSTART;TZID=UTC:20240202T110000
DTEND;TZID=UTC:20240202T120000
DTSTAMP:20260423T160338
CREATED:20240202T132627Z
LAST-MODIFIED:20240202T132816Z
UID:6627-1706871600-1706875200@thewalkerfoundation.org
SUMMARY:Re-Conference
DESCRIPTION:Hair Love with The Walker Foundation
URL:https://thewalkerfoundation.org/event/re-conference/
CATEGORIES:Hair Course
ATTACH;FMTTYPE=image/jpeg:https://thewalkerfoundation.org/wp-content/uploads/2024/02/IMG_20240202_071927.jpg
END:VEVENT
END:VCALENDAR