BEGIN:VCALENDAR
VERSION:2.0
PRODID:-//The Walker Foundation - ECPv6.13.2.1//NONSGML v1.0//EN
CALSCALE:GREGORIAN
METHOD:PUBLISH
X-ORIGINAL-URL:https://thewalkerfoundation.org
X-WR-CALDESC:Events for The Walker Foundation
REFRESH-INTERVAL;VALUE=DURATION:PT1H
X-Robots-Tag:noindex
X-PUBLISHED-TTL:PT1H
BEGIN:VTIMEZONE
TZID:UTC
BEGIN:STANDARD
TZOFFSETFROM:+0000
TZOFFSETTO:+0000
TZNAME:UTC
DTSTART:20220101T000000
END:STANDARD
END:VTIMEZONE
BEGIN:VEVENT
DTSTART;TZID=UTC:20240303T100000
DTEND;TZID=UTC:20240303T140000
DTSTAMP:20260423T185822
CREATED:20240208T054328Z
LAST-MODIFIED:20240209T122511Z
UID:6640-1709460000-1709474400@thewalkerfoundation.org
SUMMARY:CASA Hair Fair and Training
DESCRIPTION:
URL:https://thewalkerfoundation.org/event/casa-hair-fair-and-training/
CATEGORIES:Hair Fair
ATTACH;FMTTYPE=image/jpeg:https://thewalkerfoundation.org/wp-content/uploads/2024/02/Screenshot_20240207_234529_Canva.jpg
END:VEVENT
BEGIN:VEVENT
DTSTART;VALUE=DATE:20240301
DTEND;VALUE=DATE:20240302
DTSTAMP:20260423T185822
CREATED:20240209T123011Z
LAST-MODIFIED:20240209T123252Z
UID:6645-1709251200-1709337599@thewalkerfoundation.org
SUMMARY:Kids Designer Application Deadline March 1st
DESCRIPTION:
URL:https://thewalkerfoundation.org/event/kids-designer-application-deadline-march-1st/
CATEGORIES:Kids Casting Call
ATTACH;FMTTYPE=image/jpeg:https://thewalkerfoundation.org/wp-content/uploads/2024/02/IMG_20240209_055959.jpg
END:VEVENT
BEGIN:VEVENT
DTSTART;TZID=UTC:20240225T083000
DTEND;TZID=UTC:20240225T100000
DTSTAMP:20260423T185822
CREATED:20240209T123947Z
LAST-MODIFIED:20240209T124255Z
UID:6649-1708849800-1708855200@thewalkerfoundation.org
SUMMARY:Joy in the Journey "Private Event"
DESCRIPTION:Adult hair training class.
URL:https://thewalkerfoundation.org/event/joy-in-the-journey-private-event/
CATEGORIES:Hair Course
ATTACH;FMTTYPE=image/jpeg:https://thewalkerfoundation.org/wp-content/uploads/2024/02/Screenshot_20240209_062126_Canva.jpg
END:VEVENT
BEGIN:VEVENT
DTSTART;TZID=UTC:20240218T093000
DTEND;TZID=UTC:20240218T110000
DTSTAMP:20260423T185822
CREATED:20240219T000001Z
LAST-MODIFIED:20240219T000001Z
UID:6733-1708248600-1708254000@thewalkerfoundation.org
SUMMARY:HairStory Braiding Workshop
DESCRIPTION:
URL:https://thewalkerfoundation.org/event/hairstory-braiding-workshop/
CATEGORIES:Hair Course
ATTACH;FMTTYPE=image/jpeg:https://thewalkerfoundation.org/wp-content/uploads/2024/02/IMG_20240218_175642.jpg
END:VEVENT
BEGIN:VEVENT
DTSTART;TZID=UTC:20240216T120000
DTEND;TZID=UTC:20240216T160000
DTSTAMP:20260423T185822
CREATED:20240209T142338Z
LAST-MODIFIED:20240209T142338Z
UID:6655-1708084800-1708099200@thewalkerfoundation.org
SUMMARY:KC Girls Prep & Hair Talk Academy
DESCRIPTION:
URL:https://thewalkerfoundation.org/event/kc-girls-prep-hair-talk-academy/
CATEGORIES:Hair Course
ATTACH;FMTTYPE=image/jpeg:https://thewalkerfoundation.org/wp-content/uploads/2024/02/Screenshot_20240209_081757_Canva.jpg
END:VEVENT
BEGIN:VEVENT
DTSTART;TZID=UTC:20240202T110000
DTEND;TZID=UTC:20240202T120000
DTSTAMP:20260423T185822
CREATED:20240202T132627Z
LAST-MODIFIED:20240202T132816Z
UID:6627-1706871600-1706875200@thewalkerfoundation.org
SUMMARY:Re-Conference
DESCRIPTION:Hair Love with The Walker Foundation
URL:https://thewalkerfoundation.org/event/re-conference/
CATEGORIES:Hair Course
ATTACH;FMTTYPE=image/jpeg:https://thewalkerfoundation.org/wp-content/uploads/2024/02/IMG_20240202_071927.jpg
END:VEVENT
BEGIN:VEVENT
DTSTART;TZID=UTC:20240121T100000
DTEND;TZID=UTC:20240121T140000
DTSTAMP:20260423T185822
CREATED:20231208T011230Z
LAST-MODIFIED:20231208T154242Z
UID:6485-1705831200-1705845600@thewalkerfoundation.org
SUMMARY:Beauties Barbie & Brunch
DESCRIPTION:Princesses come get glammed up and bring your favorite doll baby as you enjoy a day of girl fun in pajamas. \nRegistration
URL:https://thewalkerfoundation.org/event/beauties-barbie-brunch/
ATTACH;FMTTYPE=image/jpeg:https://thewalkerfoundation.org/wp-content/uploads/2023/12/IMG_20231206_112319-2.jpg
END:VEVENT
BEGIN:VEVENT
DTSTART;TZID=UTC:20231119T100000
DTEND;TZID=UTC:20231119T140000
DTSTAMP:20260423T185822
CREATED:20231121T153917Z
LAST-MODIFIED:20231122T044953Z
UID:6412-1700388000-1700402400@thewalkerfoundation.org
SUMMARY:Private Event with Jackson County Casa
DESCRIPTION:
URL:https://thewalkerfoundation.org/event/special-a-private-event/
ATTACH;FMTTYPE=image/jpeg:https://thewalkerfoundation.org/wp-content/uploads/2023/11/event001.jpg
END:VEVENT
BEGIN:VEVENT
DTSTART;TZID=UTC:20230924T000000
DTEND;TZID=UTC:20230924T163000
DTSTAMP:20260423T185822
CREATED:20230904T022119Z
LAST-MODIFIED:20230908T043909Z
UID:6111-1695513600-1695573000@thewalkerfoundation.org
SUMMARY:Hair Love with UPS
DESCRIPTION:Foster and Adoption children hair awareness day.
URL:https://thewalkerfoundation.org/event/hair-love-with-ups/
CATEGORIES:Hair Fair
ATTACH;FMTTYPE=image/jpeg:https://thewalkerfoundation.org/wp-content/uploads/2023/09/image000000.png-10.jpg
END:VEVENT
BEGIN:VEVENT
DTSTART;TZID=UTC:20230827T090000
DTEND;TZID=UTC:20230827T150000
DTSTAMP:20260423T185822
CREATED:20230630T130324Z
LAST-MODIFIED:20231208T155023Z
UID:5841-1693126800-1693148400@thewalkerfoundation.org
SUMMARY:Back To School
DESCRIPTION:The Walker Foundation Presents Back To School \nRegistration
URL:https://thewalkerfoundation.org/event/back-to-school/
ATTACH;FMTTYPE=image/jpeg:https://thewalkerfoundation.org/wp-content/uploads/2023/06/event40.jpg
END:VEVENT
BEGIN:VEVENT
DTSTART;TZID=UTC:20230819T110000
DTEND;TZID=UTC:20230819T140000
DTSTAMP:20260423T185822
CREATED:20230817T045544Z
LAST-MODIFIED:20230817T045544Z
UID:6019-1692442800-1692453600@thewalkerfoundation.org
SUMMARY:Hair Love at HY-VEE
DESCRIPTION:Free Hair Services to children in foster and adoption care. Rhythm Cosmetics luxury hair care products and makeup demo.
URL:https://thewalkerfoundation.org/event/hair-love-at-hy-vee/
ATTACH;FMTTYPE=image/jpeg:https://thewalkerfoundation.org/wp-content/uploads/2023/08/hy.jpg
END:VEVENT
BEGIN:VEVENT
DTSTART;TZID=UTC:20230611T120000
DTEND;TZID=UTC:20230611T183000
DTSTAMP:20260423T185822
CREATED:20230518T042804Z
LAST-MODIFIED:20230526T040712Z
UID:5758-1686484800-1686508200@thewalkerfoundation.org
SUMMARY:Walker Hair Fair & The Walk Of Confidence Fashion Show
DESCRIPTION:Free Hair Services For Foster & Adoptive Children.
URL:https://thewalkerfoundation.org/event/hair-fair-kids-hair-fashion-show/
LOCATION:The Walker Foundation
CATEGORIES:Hair Fair
ATTACH;FMTTYPE=image/jpeg:https://thewalkerfoundation.org/wp-content/uploads/2023/05/image000000.png-5.jpg
END:VEVENT
BEGIN:VEVENT
DTSTART;TZID=UTC:20230611T073000
DTEND;TZID=UTC:20230611T183000
DTSTAMP:20260423T185822
CREATED:20230502T150412Z
LAST-MODIFIED:20230503T025931Z
UID:5739-1686468600-1686508200@thewalkerfoundation.org
SUMMARY:We Need Your Help
DESCRIPTION:Help us raise funds for children in foster and adoption care. Your donation will help us provide free hair services to children in foster or adoption care.
URL:https://thewalkerfoundation.org/event/we-need-your-help/
LOCATION:The Walker Foundation
CATEGORIES:Hair Course
ATTACH;FMTTYPE=image/jpeg:https://thewalkerfoundation.org/wp-content/uploads/2023/05/event4.jpg
END:VEVENT
BEGIN:VEVENT
DTSTART;TZID=UTC:20230121T130000
DTEND;TZID=UTC:20230121T160000
DTSTAMP:20260423T185822
CREATED:20240219T031628Z
LAST-MODIFIED:20240219T031628Z
UID:6736-1674306000-1674316800@thewalkerfoundation.org
SUMMARY:Kids Casting Call
DESCRIPTION:
URL:https://thewalkerfoundation.org/event/kids-casting-call/
CATEGORIES:Kids Casting Call
ATTACH;FMTTYPE=image/jpeg:https://thewalkerfoundation.org/wp-content/uploads/2024/02/IMG_20240218_211444.jpg
END:VEVENT
BEGIN:VEVENT
DTSTART;TZID=UTC:20221103T140000
DTEND;TZID=UTC:20221103T150000
DTSTAMP:20260423T185822
CREATED:20221020T162344Z
LAST-MODIFIED:20221021T181835Z
UID:5468-1667484000-1667487600@thewalkerfoundation.org
SUMMARY:Hair Talk Academy
DESCRIPTION:The latest addition to The Walker Foundation’s palette of services is the Hair Talk Academy. As a co-founder of The Walker Foundation\, her presence\, and knowledge in the beauty industry comes close to a decade. Over the years\, she has been close to the children and saw for herself how important hair is as part of one’s personality. This is especially accentuated in the urban areas and communities\, which was the inspiration for starting the Hair Talk Academy. The idea of incorporating the education hair classes in the urban school communities brings the importance of the issue to another entirely new and more appreciated level. \nThe majority of children do not know and understand hair. This includes everything from hair history\, hair textures\, hair care\, and the entire and overall hair education. This is something that Aisha\, as a young black child growing up in the urban community has experienced firsthand. This is especially challenging for African/American (black) children who have different types of hair and do not know their history\, the importance\, and strength of their hair. All of this connects to more pressing social issues like children being bullied and discriminated against on the bases of their hairstyles\, texture\, and type.\nTo cater to all of these issues\, Aisha and her team at Hair Talk Academy will start visiting urban schools and providing hair education. The idea is to create the so-called hair therapy. This will give the children the opportunity to talk about hair. They will learn\, grow and build hair confidence through hair education\, no matter the length of their hair\, texture\, or style.\nWith great excitement\, dedication and devotion\, we are proud and excited to bring back the hair into the school education system. \nFor all those willing to take part and join the Hair Talk Academy in this huge and evolutionary step\, be sure to fill out the form below. A representative from our team will reach out to you at the quickest possible time.\nLet’s build something valuable together!
URL:https://thewalkerfoundation.org/event/hair-talk-academy/
CATEGORIES:Hair Course
ATTACH;FMTTYPE=image/jpeg:https://thewalkerfoundation.org/wp-content/uploads/2022/10/600.jpg
END:VEVENT
BEGIN:VEVENT
DTSTART;VALUE=DATE:20220924
DTEND;VALUE=DATE:20221025
DTSTAMP:20260423T185822
CREATED:20160912T131913Z
LAST-MODIFIED:20220725T165146Z
UID:436-1663977600-1666655999@thewalkerfoundation.org
SUMMARY:Paint The City Blue
DESCRIPTION:Join the national alopecia areata foundation at the kauffman stadium as the KC royals take on the seattle mariners.
URL:https://thewalkerfoundation.org/event/paint-the-city-blue/
LOCATION:Charity Center\, 45 Montgomery St. \, New York\, United States
CATEGORIES:Hair Fair
ATTACH;FMTTYPE=image/jpeg:https://thewalkerfoundation.org/wp-content/uploads/2016/09/event03.jpg
END:VEVENT
BEGIN:VEVENT
DTSTART;VALUE=DATE:20220820
DTEND;VALUE=DATE:20220821
DTSTAMP:20260423T185822
CREATED:20160912T132625Z
LAST-MODIFIED:20220726T044725Z
UID:438-1660953600-1661039999@thewalkerfoundation.org
SUMMARY:Hair Fair
DESCRIPTION:In times of changing situations\, events\, and industries\, the possibilities for the companies and individuals are pretty endless. Especially in the hair industry\, the advancements in the manufacturing and development of tools and products are on a quite high level. With a special accent on the medical issues that can cause loss of hair\, we at The Walker Foundation are committed and dedicated to providing the best possible solutions for those who need it. \nThe hair is like a crown to every woman’s head and face. Losing the hair\, for any reason\, means losing the crown. The Walker Foundation was founded exactly on that principle – to provide 100% customized hair wigs to all the women who are suffering from a hair loss\, due to medical reasons\, without any cost!
URL:https://thewalkerfoundation.org/event/hair-fair/
LOCATION:The Walker Foundation
CATEGORIES:Hair Fair
ATTACH;FMTTYPE=image/jpeg:https://thewalkerfoundation.org/wp-content/uploads/2016/09/event02.jpg
END:VEVENT
END:VCALENDAR